BEGIN:VCALENDAR
VERSION:2.0
PRODID:-//wchabitat.org//NONSGML kigkonsult.se iCalcreator 2.30.10//
CALSCALE:GREGORIAN
METHOD:PUBLISH
UID:8dbc44db-4ed9-41e0-ab9e-bbc60665a70c
X-WR-CALDESC:
X-WR-RELCALID:fe247b4073ccbdfe207c653c41e212b6
X-WR-TIMEZONE:America/New_York
BEGIN:VTIMEZONE
TZID:America/New_York
BEGIN:STANDARD
TZNAME:EST
DTSTART:20211107T020000
TZOFFSETFROM:-0400
TZOFFSETTO:-0500
RDATE:20221106T020000
END:STANDARD
BEGIN:DAYLIGHT
TZNAME:EDT
DTSTART:20210314T020000
TZOFFSETFROM:-0500
TZOFFSETTO:-0400
RDATE:20220313T020000
RDATE:20230312T020000
END:DAYLIGHT
END:VTIMEZONE
BEGIN:VEVENT
UID:db714d00-3be0-4430-9853-b6ec46fb83cc
DTSTAMP:20260422T041800Z
DESCRIPTION:
DTSTART;TZID=America/New_York:20220113T180000
DTEND;TZID=America/New_York:20220113T190000
LOCATION:St. Mark's Lutheran Church  315 South College Drive\, Bowling Gree
 n
SUMMARY:Mission Celebration Night
END:VEVENT
END:VCALENDAR
