BEGIN:VCALENDAR
VERSION:2.0
PRODID:-//wchabitat.org//NONSGML kigkonsult.se iCalcreator 2.30.10//
CALSCALE:GREGORIAN
METHOD:PUBLISH
UID:c95190ff-501b-4c3b-9462-7785113b29ea
X-WR-CALDESC:
X-WR-RELCALID:bfbf362c987ffad280e32318de5e24a6
X-WR-TIMEZONE:America/New_York
BEGIN:VTIMEZONE
TZID:America/New_York
BEGIN:STANDARD
TZNAME:EST
DTSTART:20211107T020000
TZOFFSETFROM:-0400
TZOFFSETTO:-0500
RDATE:20221106T020000
END:STANDARD
BEGIN:DAYLIGHT
TZNAME:EDT
DTSTART:20210314T020000
TZOFFSETFROM:-0500
TZOFFSETTO:-0400
RDATE:20220313T020000
RDATE:20230312T020000
END:DAYLIGHT
END:VTIMEZONE
BEGIN:VEVENT
UID:19f4f0f5-fa99-4b4a-81aa-71cc9dc4c9e3
DTSTAMP:20260422T022417Z
DESCRIPTION:
DTSTART;TZID=America/New_York:20211228T173000
DTEND;TZID=America/New_York:20211228T183000
LOCATION:
SUMMARY:Board Meeting
END:VEVENT
END:VCALENDAR
