BEGIN:VCALENDAR
VERSION:2.0
PRODID:-//wchabitat.org//NONSGML kigkonsult.se iCalcreator 2.30.10//
CALSCALE:GREGORIAN
METHOD:PUBLISH
UID:9d0815be-8707-4e25-b1e6-6a29d14df04c
X-WR-CALDESC:
X-WR-RELCALID:db23e1b2b637ec4b28023fc6917076ef
X-WR-TIMEZONE:America/New_York
BEGIN:VTIMEZONE
TZID:America/New_York
BEGIN:STANDARD
TZNAME:EST
DTSTART:20211107T020000
TZOFFSETFROM:-0400
TZOFFSETTO:-0500
RDATE:20221106T020000
END:STANDARD
BEGIN:DAYLIGHT
TZNAME:EDT
DTSTART:20210314T020000
TZOFFSETFROM:-0500
TZOFFSETTO:-0400
RDATE:20220313T020000
RDATE:20230312T020000
END:DAYLIGHT
END:VTIMEZONE
BEGIN:VEVENT
UID:dd81675e-3001-4f9e-8888-2a22724ef733
DTSTAMP:20260422T022519Z
DESCRIPTION:
DTSTART;TZID=America/New_York:20211216T120000
DTEND;TZID=America/New_York:20211216T130000
LOCATION:Habitat Office- 326 Industrial Parkway\, Bowling Green
SUMMARY:Mortgage Burning Event for Nicole Squier
END:VEVENT
END:VCALENDAR
