BEGIN:VCALENDAR
VERSION:2.0
PRODID:-//wchabitat.org//NONSGML kigkonsult.se iCalcreator 2.30.10//
CALSCALE:GREGORIAN
METHOD:PUBLISH
UID:a531b015-5de7-4d02-bf4d-83f8999b6fa3
X-WR-CALDESC:
X-WR-RELCALID:73fc0b924ca82dcce5de6556d3859d0f
X-WR-TIMEZONE:America/New_York
BEGIN:VTIMEZONE
TZID:America/New_York
BEGIN:STANDARD
TZNAME:EST
DTSTART:20211107T020000
TZOFFSETFROM:-0400
TZOFFSETTO:-0500
RDATE:20221106T020000
END:STANDARD
BEGIN:DAYLIGHT
TZNAME:EDT
DTSTART:20210314T020000
TZOFFSETFROM:-0500
TZOFFSETTO:-0400
RDATE:20220313T020000
RDATE:20230312T020000
END:DAYLIGHT
END:VTIMEZONE
BEGIN:VEVENT
UID:24b96b44-268d-42b9-8969-20423bead353
DTSTAMP:20260422T023817Z
DESCRIPTION:
DTSTART;TZID=America/New_York:20211209T160000
DTEND;TZID=America/New_York:20211209T170000
LOCATION:200 Manville Avenue\, Bowling Green
SUMMARY:Bowling Green home dedication
END:VEVENT
END:VCALENDAR
