BEGIN:VCALENDAR
VERSION:2.0
PRODID:-//wchabitat.org//NONSGML kigkonsult.se iCalcreator 2.30.10//
CALSCALE:GREGORIAN
METHOD:PUBLISH
UID:d8e5e6bb-b1c0-410e-a6c9-1c671e169065
X-WR-CALDESC:
X-WR-RELCALID:1fcf47151ec405995e12225568365273
X-WR-TIMEZONE:America/New_York
BEGIN:VTIMEZONE
TZID:America/New_York
BEGIN:STANDARD
TZNAME:EST
DTSTART:20211107T020000
TZOFFSETFROM:-0400
TZOFFSETTO:-0500
RDATE:20221106T020000
END:STANDARD
BEGIN:DAYLIGHT
TZNAME:EDT
DTSTART:20210314T020000
TZOFFSETFROM:-0500
TZOFFSETTO:-0400
RDATE:20220313T020000
RDATE:20230312T020000
END:DAYLIGHT
END:VTIMEZONE
BEGIN:VEVENT
UID:658907f3-bc0b-4081-a93f-9d4bb81448d4
DTSTAMP:20260422T011111Z
DESCRIPTION:
DTSTART;TZID=America/New_York:20211118T170000
DTEND;TZID=America/New_York:20211118T180000
LOCATION:
SUMMARY:Homeowner Support Committee Meeting
END:VEVENT
END:VCALENDAR
