BEGIN:VCALENDAR
VERSION:2.0
PRODID:-//wchabitat.org//NONSGML kigkonsult.se iCalcreator 2.30.10//
CALSCALE:GREGORIAN
METHOD:PUBLISH
UID:09942a18-d11f-499c-86b4-14e71bc65c26
X-WR-CALDESC:
X-WR-RELCALID:5dcd9d5fc99cedd3bd88f0312483bb5c
X-WR-TIMEZONE:America/New_York
BEGIN:VTIMEZONE
TZID:America/New_York
BEGIN:STANDARD
TZNAME:EST
DTSTART:20201101T020000
TZOFFSETFROM:-0400
TZOFFSETTO:-0500
RDATE:20211107T020000
RDATE:20221106T020000
END:STANDARD
BEGIN:DAYLIGHT
TZNAME:EDT
DTSTART:20210314T020000
TZOFFSETFROM:-0500
TZOFFSETTO:-0400
RDATE:20220313T020000
RDATE:20230312T020000
END:DAYLIGHT
END:VTIMEZONE
BEGIN:VEVENT
UID:aca9327d-6d0d-4fa8-a467-a37074af23e6
DTSTAMP:20260421T232737Z
DESCRIPTION:
DTSTART;TZID=America/New_York:20211026T173000
DTEND;TZID=America/New_York:20211026T183000
LOCATION:
SUMMARY:Board Meeting
END:VEVENT
END:VCALENDAR
