BEGIN:VCALENDAR
VERSION:2.0
PRODID:-//wchabitat.org//NONSGML kigkonsult.se iCalcreator 2.30.10//
CALSCALE:GREGORIAN
METHOD:PUBLISH
UID:518e24a8-1706-406f-ad8c-647b4a00bb9d
X-WR-CALDESC:
X-WR-RELCALID:86d6907192029c87901030982015f579
X-WR-TIMEZONE:America/New_York
BEGIN:VTIMEZONE
TZID:America/New_York
BEGIN:STANDARD
TZNAME:EST
DTSTART:20201101T020000
TZOFFSETFROM:-0400
TZOFFSETTO:-0500
RDATE:20211107T020000
RDATE:20221106T020000
END:STANDARD
BEGIN:DAYLIGHT
TZNAME:EDT
DTSTART:20210314T020000
TZOFFSETFROM:-0500
TZOFFSETTO:-0400
RDATE:20220313T020000
RDATE:20230312T020000
END:DAYLIGHT
END:VTIMEZONE
BEGIN:VEVENT
UID:8fd13682-f1fa-415b-b47f-677e01bc4bbf
DTSTAMP:20260421T232628Z
DESCRIPTION:
DTSTART;TZID=America/New_York:20211012T170000
DTEND;TZID=America/New_York:20211012T180000
LOCATION:
SUMMARY:Selection Committee Meeting
END:VEVENT
END:VCALENDAR
