BEGIN:VCALENDAR
VERSION:2.0
PRODID:-//wchabitat.org//NONSGML kigkonsult.se iCalcreator 2.30.10//
CALSCALE:GREGORIAN
METHOD:PUBLISH
UID:a86eacdd-a065-4037-a043-7ada02b072a6
X-WR-CALDESC:
X-WR-RELCALID:871a3169d49d155ea39761e15a3397e6
X-WR-TIMEZONE:America/New_York
BEGIN:VTIMEZONE
TZID:America/New_York
BEGIN:STANDARD
TZNAME:EST
DTSTART:20201101T020000
TZOFFSETFROM:-0400
TZOFFSETTO:-0500
RDATE:20211107T020000
RDATE:20221106T020000
END:STANDARD
BEGIN:DAYLIGHT
TZNAME:EDT
DTSTART:20210314T020000
TZOFFSETFROM:-0500
TZOFFSETTO:-0400
RDATE:20220313T020000
RDATE:20230312T020000
END:DAYLIGHT
END:VTIMEZONE
BEGIN:VEVENT
UID:01e4088b-d9f6-45e9-8650-05f4dcd31089
DTSTAMP:20260421T232711Z
DESCRIPTION:
DTSTART;TZID=America/New_York:20211011T150000
DTEND;TZID=America/New_York:20211011T160000
LOCATION:Build Committee Meeting
SUMMARY:Build Committee Meeting
END:VEVENT
END:VCALENDAR
