BEGIN:VCALENDAR
VERSION:2.0
PRODID:-//wchabitat.org//NONSGML kigkonsult.se iCalcreator 2.30.10//
CALSCALE:GREGORIAN
METHOD:PUBLISH
UID:e373e902-82ed-4c7b-abf6-85da69ee4a9f
X-WR-CALDESC:
X-WR-RELCALID:d356e74a5b638cf086585fe5614f8183
X-WR-TIMEZONE:America/New_York
BEGIN:VTIMEZONE
TZID:America/New_York
BEGIN:STANDARD
TZNAME:EST
DTSTART:20201101T020000
TZOFFSETFROM:-0400
TZOFFSETTO:-0500
RDATE:20211107T020000
RDATE:20221106T020000
END:STANDARD
BEGIN:DAYLIGHT
TZNAME:EDT
DTSTART:20210314T020000
TZOFFSETFROM:-0500
TZOFFSETTO:-0400
RDATE:20220313T020000
RDATE:20230312T020000
END:DAYLIGHT
END:VTIMEZONE
BEGIN:VEVENT
UID:cc1bba46-e1b6-4f3a-83d4-a2696261712c
DTSTAMP:20260421T214716Z
DESCRIPTION:
DTSTART;TZID=America/New_York:20210929T160000
DTEND;TZID=America/New_York:20210929T170000
LOCATION:200 Manville Ave\, Bowling Green\, OH
SUMMARY:BG3 Project Blessing Ceremony
END:VEVENT
END:VCALENDAR
