BEGIN:VCALENDAR
VERSION:2.0
PRODID:-//wchabitat.org//NONSGML kigkonsult.se iCalcreator 2.30.10//
CALSCALE:GREGORIAN
METHOD:PUBLISH
UID:6cef474c-36f3-4f41-a718-9ee80c9e5e99
X-WR-CALDESC:
X-WR-RELCALID:30e21026d5b86dc1bb3ba3cda6ef1102
X-WR-TIMEZONE:America/New_York
BEGIN:VTIMEZONE
TZID:America/New_York
BEGIN:STANDARD
TZNAME:EST
DTSTART:20201101T020000
TZOFFSETFROM:-0400
TZOFFSETTO:-0500
RDATE:20211107T020000
RDATE:20221106T020000
END:STANDARD
BEGIN:DAYLIGHT
TZNAME:EDT
DTSTART:20210314T020000
TZOFFSETFROM:-0500
TZOFFSETTO:-0400
RDATE:20220313T020000
RDATE:20230312T020000
END:DAYLIGHT
END:VTIMEZONE
BEGIN:VEVENT
UID:3ad193a3-c08a-43d5-9d5b-a1a499dc8c22
DTSTAMP:20260421T221408Z
DESCRIPTION:
DTSTART;TZID=America/New_York:20210928T173000
DTEND;TZID=America/New_York:20210928T183000
LOCATION:
SUMMARY:Board Meeting
END:VEVENT
END:VCALENDAR
