BEGIN:VCALENDAR
VERSION:2.0
PRODID:-//wchabitat.org//NONSGML kigkonsult.se iCalcreator 2.30.10//
CALSCALE:GREGORIAN
METHOD:PUBLISH
UID:e92c9001-642e-4350-ba11-1556173f1b7f
X-WR-CALDESC:
X-WR-RELCALID:df0885204e086d2f406ce6b63db86cae
X-WR-TIMEZONE:America/New_York
BEGIN:VTIMEZONE
TZID:America/New_York
BEGIN:STANDARD
TZNAME:EST
DTSTART:20201101T020000
TZOFFSETFROM:-0400
TZOFFSETTO:-0500
RDATE:20211107T020000
RDATE:20221106T020000
END:STANDARD
BEGIN:DAYLIGHT
TZNAME:EDT
DTSTART:20210314T020000
TZOFFSETFROM:-0500
TZOFFSETTO:-0400
RDATE:20220313T020000
RDATE:20230312T020000
END:DAYLIGHT
END:VTIMEZONE
BEGIN:VEVENT
UID:c514d1fa-d762-4cd9-8e11-c3591a71a602
DTSTAMP:20260421T222018Z
DESCRIPTION:
DTSTART;TZID=America/New_York:20210925T000000
DTEND;TZID=America/New_York:20210925T235900
LOCATION:
SUMMARY:Hockey for Habitat
END:VEVENT
END:VCALENDAR
