BEGIN:VCALENDAR
VERSION:2.0
PRODID:-//wchabitat.org//NONSGML kigkonsult.se iCalcreator 2.30.10//
CALSCALE:GREGORIAN
METHOD:PUBLISH
UID:2208acbc-c148-4478-be5e-198c23ce3fac
X-WR-CALDESC:
X-WR-RELCALID:0795197c624d6502ba90e0939b8d3c31
X-WR-TIMEZONE:America/New_York
BEGIN:VTIMEZONE
TZID:America/New_York
BEGIN:STANDARD
TZNAME:EST
DTSTART:20201101T020000
TZOFFSETFROM:-0400
TZOFFSETTO:-0500
RDATE:20211107T020000
RDATE:20221106T020000
END:STANDARD
BEGIN:DAYLIGHT
TZNAME:EDT
DTSTART:20210314T020000
TZOFFSETFROM:-0500
TZOFFSETTO:-0400
RDATE:20220313T020000
END:DAYLIGHT
END:VTIMEZONE
BEGIN:VEVENT
UID:5720e603-86d6-4abf-bb6f-d7df5da1e6c8
DTSTAMP:20260421T202741Z
DESCRIPTION:
DTSTART;TZID=America/New_York:20210824T173000
DTEND;TZID=America/New_York:20210824T183000
LOCATION:
SUMMARY:Board Meeting
END:VEVENT
END:VCALENDAR
