BEGIN:VCALENDAR
VERSION:2.0
PRODID:-//wchabitat.org//NONSGML kigkonsult.se iCalcreator 2.30.10//
CALSCALE:GREGORIAN
METHOD:PUBLISH
UID:db760bf9-543d-48e4-9925-dd79e85ecc9b
X-WR-CALDESC:
X-WR-RELCALID:891560ee722215bedcc66840341b3743
X-WR-TIMEZONE:America/New_York
BEGIN:VTIMEZONE
TZID:America/New_York
BEGIN:STANDARD
TZNAME:EST
DTSTART:20201101T020000
TZOFFSETFROM:-0400
TZOFFSETTO:-0500
RDATE:20211107T020000
RDATE:20221106T020000
END:STANDARD
BEGIN:DAYLIGHT
TZNAME:EDT
DTSTART:20210314T020000
TZOFFSETFROM:-0500
TZOFFSETTO:-0400
RDATE:20220313T020000
END:DAYLIGHT
END:VTIMEZONE
BEGIN:VEVENT
UID:ccc1f574-62ee-4bbd-a782-e538563c948b
DTSTAMP:20260421T203108Z
DESCRIPTION:
DTSTART;TZID=America/New_York:20210809T150000
DTEND;TZID=America/New_York:20210809T160000
LOCATION:Build Committee Meeting
SUMMARY:Build Committee Meeting
END:VEVENT
END:VCALENDAR
