BEGIN:VCALENDAR
VERSION:2.0
PRODID:-//wchabitat.org//NONSGML kigkonsult.se iCalcreator 2.30.10//
CALSCALE:GREGORIAN
METHOD:PUBLISH
UID:4c4af453-aa91-4720-ae91-525192c3a1cb
X-WR-CALDESC:
X-WR-RELCALID:7b13dd088e77d088661854b231f7b5f3
X-WR-TIMEZONE:America/New_York
BEGIN:VTIMEZONE
TZID:America/New_York
BEGIN:STANDARD
TZNAME:EST
DTSTART:20201101T020000
TZOFFSETFROM:-0400
TZOFFSETTO:-0500
RDATE:20211107T020000
RDATE:20221106T020000
END:STANDARD
BEGIN:DAYLIGHT
TZNAME:EDT
DTSTART:20210314T020000
TZOFFSETFROM:-0500
TZOFFSETTO:-0400
RDATE:20220313T020000
END:DAYLIGHT
END:VTIMEZONE
BEGIN:VEVENT
UID:569b4c6b-9329-42fe-b723-15509fcb698c
DTSTAMP:20260421T202753Z
DESCRIPTION:
DTSTART;TZID=America/New_York:20210804T173000
DTEND;TZID=America/New_York:20210804T183000
LOCATION:223 Bacon Street\, Rossford OH
SUMMARY:Home Dedication Rossford
END:VEVENT
END:VCALENDAR
