BEGIN:VCALENDAR
VERSION:2.0
PRODID:-//wchabitat.org//NONSGML kigkonsult.se iCalcreator 2.30.10//
CALSCALE:GREGORIAN
METHOD:PUBLISH
UID:b2ed7883-f6ee-403e-a7d3-ca7f54018f94
X-WR-CALDESC:
X-WR-RELCALID:f2c279627a70a2c0c95f4de4599b477e
X-WR-TIMEZONE:America/New_York
BEGIN:VTIMEZONE
TZID:America/New_York
BEGIN:STANDARD
TZNAME:EST
DTSTART:20201101T020000
TZOFFSETFROM:-0400
TZOFFSETTO:-0500
RDATE:20211107T020000
RDATE:20221106T020000
END:STANDARD
BEGIN:DAYLIGHT
TZNAME:EDT
DTSTART:20210314T020000
TZOFFSETFROM:-0500
TZOFFSETTO:-0400
RDATE:20220313T020000
END:DAYLIGHT
END:VTIMEZONE
BEGIN:VEVENT
UID:aab17bb4-3d6a-440b-ad46-6e92ce9e1f19
DTSTAMP:20260421T183934Z
DESCRIPTION:
DTSTART;TZID=America/New_York:20210729T173000
DTEND;TZID=America/New_York:20210729T183000
LOCATION:215 & 223 Railroad Street\, Wayne\, OH
SUMMARY:Home Dedication Wayne
END:VEVENT
END:VCALENDAR
