BEGIN:VCALENDAR
VERSION:2.0
PRODID:-//wchabitat.org//NONSGML kigkonsult.se iCalcreator 2.30.10//
CALSCALE:GREGORIAN
METHOD:PUBLISH
UID:0078f032-7578-4726-b6fa-67b60e9cccd4
X-WR-CALDESC:
X-WR-RELCALID:4c6df20baeeea313084b4d75b4736bd4
X-WR-TIMEZONE:America/New_York
BEGIN:VTIMEZONE
TZID:America/New_York
BEGIN:STANDARD
TZNAME:EST
DTSTART:20201101T020000
TZOFFSETFROM:-0400
TZOFFSETTO:-0500
RDATE:20211107T020000
RDATE:20221106T020000
END:STANDARD
BEGIN:DAYLIGHT
TZNAME:EDT
DTSTART:20210314T020000
TZOFFSETFROM:-0500
TZOFFSETTO:-0400
RDATE:20220313T020000
END:DAYLIGHT
END:VTIMEZONE
BEGIN:VEVENT
UID:f9d90c52-792d-4cd4-a18e-7aca015ab3ce
DTSTAMP:20260421T183950Z
DESCRIPTION:
DTSTART;TZID=America/New_York:20210715T170000
DTEND;TZID=America/New_York:20210715T180000
LOCATION:
SUMMARY:Homeowner Support Committee Meeting
END:VEVENT
END:VCALENDAR
