BEGIN:VCALENDAR
VERSION:2.0
PRODID:-//wchabitat.org//NONSGML kigkonsult.se iCalcreator 2.30.10//
CALSCALE:GREGORIAN
METHOD:PUBLISH
UID:aaceeb00-82d1-4a66-b38a-028c5ecd1840
X-WR-CALDESC:
X-WR-RELCALID:2c40b9adb70542477fae5cc86e42dbc4
X-WR-TIMEZONE:America/New_York
BEGIN:VTIMEZONE
TZID:America/New_York
BEGIN:STANDARD
TZNAME:EST
DTSTART:20201101T020000
TZOFFSETFROM:-0400
TZOFFSETTO:-0500
RDATE:20211107T020000
RDATE:20221106T020000
END:STANDARD
BEGIN:DAYLIGHT
TZNAME:EDT
DTSTART:20210314T020000
TZOFFSETFROM:-0500
TZOFFSETTO:-0400
RDATE:20220313T020000
END:DAYLIGHT
END:VTIMEZONE
BEGIN:VEVENT
UID:0b0a3a22-3a20-48b3-9c6a-3d39337a6573
DTSTAMP:20260421T183045Z
DESCRIPTION:
DTSTART;TZID=America/New_York:20210713T170000
DTEND;TZID=America/New_York:20210713T180000
LOCATION:
SUMMARY:Selection Committee Meeting
END:VEVENT
END:VCALENDAR
