BEGIN:VCALENDAR
VERSION:2.0
PRODID:-//wchabitat.org//NONSGML kigkonsult.se iCalcreator 2.30.10//
CALSCALE:GREGORIAN
METHOD:PUBLISH
UID:fa48133a-4c9c-4b36-b690-037aa76927f9
X-WR-CALDESC:
X-WR-RELCALID:cde41911e0ca6eb7aee3ec45cfa18622
X-WR-TIMEZONE:America/New_York
BEGIN:VTIMEZONE
TZID:America/New_York
BEGIN:STANDARD
TZNAME:EST
DTSTART:20201101T020000
TZOFFSETFROM:-0400
TZOFFSETTO:-0500
RDATE:20211107T020000
RDATE:20221106T020000
END:STANDARD
BEGIN:DAYLIGHT
TZNAME:EDT
DTSTART:20210314T020000
TZOFFSETFROM:-0500
TZOFFSETTO:-0400
RDATE:20220313T020000
END:DAYLIGHT
END:VTIMEZONE
BEGIN:VEVENT
UID:57b0068f-f538-4b6a-be39-272cfa1b1ca3
DTSTAMP:20260421T183552Z
DESCRIPTION:
DTSTART;TZID=America/New_York:20210712T150000
DTEND;TZID=America/New_York:20210712T160000
LOCATION:Build Committee Meeting
SUMMARY:Build Committee Meeting
END:VEVENT
END:VCALENDAR
