BEGIN:VCALENDAR
VERSION:2.0
PRODID:-//wchabitat.org//NONSGML kigkonsult.se iCalcreator 2.30.10//
CALSCALE:GREGORIAN
METHOD:PUBLISH
UID:ff22877d-2308-4954-89a0-e5bb684fa028
X-WR-CALDESC:
X-WR-RELCALID:a5797796afeb9b508f710c925cdca835
X-WR-TIMEZONE:America/New_York
BEGIN:VTIMEZONE
TZID:America/New_York
BEGIN:STANDARD
TZNAME:EST
DTSTART:20201101T020000
TZOFFSETFROM:-0400
TZOFFSETTO:-0500
RDATE:20211107T020000
RDATE:20221106T020000
END:STANDARD
BEGIN:DAYLIGHT
TZNAME:EDT
DTSTART:20210314T020000
TZOFFSETFROM:-0500
TZOFFSETTO:-0400
RDATE:20220313T020000
END:DAYLIGHT
END:VTIMEZONE
BEGIN:VEVENT
UID:6554c1a7-4985-468f-a739-5c204063674a
DTSTAMP:20260421T184109Z
DESCRIPTION:
DTSTART;TZID=America/New_York:20210702T120000
DTEND;TZID=America/New_York:20210702T130000
LOCATION:
SUMMARY:Site Selection Committee Meeting
END:VEVENT
END:VCALENDAR
