BEGIN:VCALENDAR
VERSION:2.0
PRODID:-//wchabitat.org//NONSGML kigkonsult.se iCalcreator 2.30.10//
CALSCALE:GREGORIAN
METHOD:PUBLISH
UID:a02e7644-f146-4c08-955d-54a916c5f063
X-WR-CALDESC:
X-WR-RELCALID:920db1af0a3f53c70a901f0615fa1094
X-WR-TIMEZONE:America/New_York
BEGIN:VTIMEZONE
TZID:America/New_York
BEGIN:STANDARD
TZNAME:EST
DTSTART:20201101T020000
TZOFFSETFROM:-0400
TZOFFSETTO:-0500
RDATE:20211107T020000
RDATE:20221106T020000
END:STANDARD
BEGIN:DAYLIGHT
TZNAME:EDT
DTSTART:20210314T020000
TZOFFSETFROM:-0500
TZOFFSETTO:-0400
RDATE:20220313T020000
END:DAYLIGHT
END:VTIMEZONE
BEGIN:VEVENT
UID:15bf0061-01ca-41b3-9345-b909e51b8de9
DTSTAMP:20260421T165724Z
DESCRIPTION:
DTSTART;TZID=America/New_York:20210622T173000
DTEND;TZID=America/New_York:20210622T183000
LOCATION:
SUMMARY:Board Meeting
END:VEVENT
END:VCALENDAR
