BEGIN:VCALENDAR
VERSION:2.0
PRODID:-//wchabitat.org//NONSGML kigkonsult.se iCalcreator 2.30.10//
CALSCALE:GREGORIAN
METHOD:PUBLISH
UID:80daf3ac-3012-439e-8722-6153cb38934f
X-WR-CALDESC:
X-WR-RELCALID:abc9292e87883ffbf140a4d0270e8dfd
X-WR-TIMEZONE:America/New_York
BEGIN:VTIMEZONE
TZID:America/New_York
BEGIN:STANDARD
TZNAME:EST
DTSTART:20201101T020000
TZOFFSETFROM:-0400
TZOFFSETTO:-0500
RDATE:20211107T020000
RDATE:20221106T020000
END:STANDARD
BEGIN:DAYLIGHT
TZNAME:EDT
DTSTART:20210314T020000
TZOFFSETFROM:-0500
TZOFFSETTO:-0400
RDATE:20220313T020000
END:DAYLIGHT
END:VTIMEZONE
BEGIN:VEVENT
UID:33788949-210c-4a9b-831a-fd141d214375
DTSTAMP:20260421T164453Z
DESCRIPTION:
DTSTART;TZID=America/New_York:20210617T170000
DTEND;TZID=America/New_York:20210617T180000
LOCATION:
SUMMARY:Homeowner Support Committee Meeting
END:VEVENT
END:VCALENDAR
