BEGIN:VCALENDAR
VERSION:2.0
PRODID:-//wchabitat.org//NONSGML kigkonsult.se iCalcreator 2.30.10//
CALSCALE:GREGORIAN
METHOD:PUBLISH
UID:4deb775d-bfbe-45c0-b093-cfafe8c04cff
X-WR-CALDESC:
X-WR-RELCALID:6821cfa9338c7b870f818aab2d2c3b2e
X-WR-TIMEZONE:America/New_York
BEGIN:VTIMEZONE
TZID:America/New_York
BEGIN:STANDARD
TZNAME:EST
DTSTART:20201101T020000
TZOFFSETFROM:-0400
TZOFFSETTO:-0500
RDATE:20211107T020000
RDATE:20221106T020000
END:STANDARD
BEGIN:DAYLIGHT
TZNAME:EDT
DTSTART:20210314T020000
TZOFFSETFROM:-0500
TZOFFSETTO:-0400
RDATE:20220313T020000
END:DAYLIGHT
END:VTIMEZONE
BEGIN:VEVENT
UID:c31669d1-b14e-45c6-bb17-8559e591e6bf
DTSTAMP:20260421T165730Z
DESCRIPTION:
DTSTART;TZID=America/New_York:20210608T170000
DTEND;TZID=America/New_York:20210608T180000
LOCATION:
SUMMARY:Selection Committee Meeting
END:VEVENT
END:VCALENDAR
