BEGIN:VCALENDAR
VERSION:2.0
PRODID:-//wchabitat.org//NONSGML kigkonsult.se iCalcreator 2.30.10//
CALSCALE:GREGORIAN
METHOD:PUBLISH
UID:b438af77-176a-4ec9-a0c5-f06bc63a31b2
X-WR-CALDESC:
X-WR-RELCALID:6514e4dc40f774dbac86e7786a4e6d37
X-WR-TIMEZONE:America/New_York
BEGIN:VTIMEZONE
TZID:America/New_York
BEGIN:STANDARD
TZNAME:EST
DTSTART:20201101T020000
TZOFFSETFROM:-0400
TZOFFSETTO:-0500
RDATE:20211107T020000
END:STANDARD
BEGIN:DAYLIGHT
TZNAME:EDT
DTSTART:20210314T020000
TZOFFSETFROM:-0500
TZOFFSETTO:-0400
RDATE:20220313T020000
END:DAYLIGHT
END:VTIMEZONE
BEGIN:VEVENT
UID:1f2c4667-7b69-490c-86b0-11de311f5f6a
DTSTAMP:20260421T132536Z
DESCRIPTION:
DTSTART;TZID=America/New_York:20210427T173000
DTEND;TZID=America/New_York:20210427T183000
LOCATION:
SUMMARY:Board Meeting
END:VEVENT
END:VCALENDAR
