BEGIN:VCALENDAR
VERSION:2.0
PRODID:-//wchabitat.org//NONSGML kigkonsult.se iCalcreator 2.30.10//
CALSCALE:GREGORIAN
METHOD:PUBLISH
UID:df48f543-d65b-4e26-b6ce-ba5c2bce4563
X-WR-CALDESC:Sharpen up your skills or learn some new ones! Join us for a W
 omen Build Event- Make it- Take it. During this instructor lead workshop y
 ou will be able to make either an end table or a planter box out of upcycl
 ed pallet wood. Registration is $50. Sign up today! Share the event on Fac
 ebook with your friends and family. \n\nParticipants must be 18 years or o
 lder.
X-WR-RELCALID:b6185ee1c4c4b8608abc782e75da39b2
X-WR-TIMEZONE:America/New_York
BEGIN:VTIMEZONE
TZID:America/New_York
BEGIN:STANDARD
TZNAME:EST
DTSTART:20201101T020000
TZOFFSETFROM:-0400
TZOFFSETTO:-0500
RDATE:20211107T020000
END:STANDARD
BEGIN:DAYLIGHT
TZNAME:EDT
DTSTART:20210314T020000
TZOFFSETFROM:-0500
TZOFFSETTO:-0400
RDATE:20220313T020000
END:DAYLIGHT
END:VTIMEZONE
BEGIN:VEVENT
UID:bfe6f23a-74a4-4c02-b8b1-24cd472bb231
DTSTAMP:20260421T131930Z
DESCRIPTION:Sharpen up your skills or learn some new ones! Join us for a Wo
 men Build Event- Make it- Take it. During this instructor lead workshop yo
 u will be able to make either an end table or a planter box out of upcycle
 d pallet wood. Registration is $50. Sign up today! Share the event on Face
 book with your friends and family. \n\nParticipants must be 18 years or ol
 der.
DTSTART;TZID=America/New_York:20210421T180000
DTEND;TZID=America/New_York:20210421T200000
LOCATION:
SUMMARY:Women Build Event- Make it- Take it
END:VEVENT
END:VCALENDAR
