BEGIN:VCALENDAR
VERSION:2.0
PRODID:-//wchabitat.org//NONSGML kigkonsult.se iCalcreator 2.30.10//
CALSCALE:GREGORIAN
METHOD:PUBLISH
UID:1299125d-e68c-4ab8-868a-0b4d29068bfb
X-WR-CALDESC:On April 16th\, 2021 Habitat for Humanity\, Ridge Stone Builde
 rs\, and Lakeside Interior Contractors will break ground on two homes in W
 ayne\, Ohio. The build will consist of a four bedroom home and a three bed
 room home for two Wood County families who are in need of decent and affor
 dable housing!
X-WR-RELCALID:41bd2d7822a2bba87192e887c6c5821c
X-WR-TIMEZONE:America/New_York
BEGIN:VTIMEZONE
TZID:America/New_York
BEGIN:STANDARD
TZNAME:EST
DTSTART:20201101T020000
TZOFFSETFROM:-0400
TZOFFSETTO:-0500
RDATE:20211107T020000
END:STANDARD
BEGIN:DAYLIGHT
TZNAME:EDT
DTSTART:20210314T020000
TZOFFSETFROM:-0500
TZOFFSETTO:-0400
RDATE:20220313T020000
END:DAYLIGHT
END:VTIMEZONE
BEGIN:VEVENT
UID:ca6ab4c7-83e3-4691-b281-3122f8d23c40
DTSTAMP:20260421T174018Z
DESCRIPTION:On April 16th\, 2021 Habitat for Humanity\, Ridge Stone Builder
 s\, and Lakeside Interior Contractors will break ground on two homes in Wa
 yne\, Ohio. The build will consist of a four bedroom home and a three bedr
 oom home for two Wood County families who are in need of decent and afford
 able housing!
DTSTART;TZID=America/New_York:20210416T000000
DTEND;TZID=America/New_York:20210416T235900
LOCATION:
SUMMARY:Kick off to Blitz Build
END:VEVENT
END:VCALENDAR
