BEGIN:VCALENDAR
VERSION:2.0
PRODID:-//wchabitat.org//NONSGML kigkonsult.se iCalcreator 2.30.10//
CALSCALE:GREGORIAN
METHOD:PUBLISH
UID:cdeb8014-320e-4e11-b8a4-89d7e91eaa4f
X-WR-CALDESC:
X-WR-RELCALID:622fb9a3572ff3898cc218ca05aa0e8f
X-WR-TIMEZONE:America/New_York
BEGIN:VTIMEZONE
TZID:America/New_York
BEGIN:STANDARD
TZNAME:EST
DTSTART:20201101T020000
TZOFFSETFROM:-0400
TZOFFSETTO:-0500
RDATE:20211107T020000
END:STANDARD
BEGIN:DAYLIGHT
TZNAME:EDT
DTSTART:20210314T020000
TZOFFSETFROM:-0500
TZOFFSETTO:-0400
RDATE:20220313T020000
END:DAYLIGHT
END:VTIMEZONE
BEGIN:VEVENT
UID:924f47fc-4a6e-4471-8503-8a13389db954
DTSTAMP:20260421T133940Z
DESCRIPTION:
DTSTART;TZID=America/New_York:20210415T170000
DTEND;TZID=America/New_York:20210415T180000
LOCATION:
SUMMARY:Homeowner Support Committee Meeting
END:VEVENT
END:VCALENDAR
