BEGIN:VCALENDAR
VERSION:2.0
PRODID:-//wchabitat.org//NONSGML kigkonsult.se iCalcreator 2.30.10//
CALSCALE:GREGORIAN
METHOD:PUBLISH
UID:6da7aead-6daf-4ede-9008-c0666907c073
X-WR-CALDESC:
X-WR-RELCALID:9055403ccdbad9221de93f4cc46949f9
X-WR-TIMEZONE:America/New_York
BEGIN:VTIMEZONE
TZID:America/New_York
BEGIN:STANDARD
TZNAME:EST
DTSTART:20201101T020000
TZOFFSETFROM:-0400
TZOFFSETTO:-0500
RDATE:20211107T020000
END:STANDARD
BEGIN:DAYLIGHT
TZNAME:EDT
DTSTART:20210314T020000
TZOFFSETFROM:-0500
TZOFFSETTO:-0400
RDATE:20220313T020000
END:DAYLIGHT
END:VTIMEZONE
BEGIN:VEVENT
UID:6c839cb1-ce99-4faa-b340-9e04ef956888
DTSTAMP:20260421T134856Z
DESCRIPTION:
DTSTART;TZID=America/New_York:20210412T150000
DTEND;TZID=America/New_York:20210412T160000
LOCATION:Build Committee Meeting
SUMMARY:Build Committee Meeting
END:VEVENT
END:VCALENDAR
