BEGIN:VCALENDAR
VERSION:2.0
PRODID:-//wchabitat.org//NONSGML kigkonsult.se iCalcreator 2.30.10//
CALSCALE:GREGORIAN
METHOD:PUBLISH
UID:4cf21eae-f873-4ef1-b00e-52a03524dda9
X-WR-CALDESC:
X-WR-RELCALID:30ec7b99a0affc8455130597d74c22b0
X-WR-TIMEZONE:America/New_York
BEGIN:VTIMEZONE
TZID:America/New_York
BEGIN:STANDARD
TZNAME:EST
DTSTART:20201101T020000
TZOFFSETFROM:-0400
TZOFFSETTO:-0500
RDATE:20211107T020000
END:STANDARD
BEGIN:DAYLIGHT
TZNAME:EDT
DTSTART:20210314T020000
TZOFFSETFROM:-0500
TZOFFSETTO:-0400
RDATE:20220313T020000
END:DAYLIGHT
END:VTIMEZONE
BEGIN:VEVENT
UID:9c9f4760-4bb5-4304-a09c-b5b0ffd23d30
DTSTAMP:20260421T133217Z
DESCRIPTION:
DTSTART;TZID=America/New_York:20210402T120000
DTEND;TZID=America/New_York:20210402T130000
LOCATION:
SUMMARY:Site Selection Committee Meeting
END:VEVENT
END:VCALENDAR
