BEGIN:VCALENDAR
VERSION:2.0
PRODID:-//wchabitat.org//NONSGML kigkonsult.se iCalcreator 2.30.10//
CALSCALE:GREGORIAN
METHOD:PUBLISH
UID:84a53381-5f08-453d-9f6a-272e861608e1
X-WR-CALDESC:
X-WR-RELCALID:97c7a5dad238a961ad3eaf472ca96c4c
X-WR-TIMEZONE:America/New_York
BEGIN:VTIMEZONE
TZID:America/New_York
BEGIN:STANDARD
TZNAME:EST
DTSTART:20201101T020000
TZOFFSETFROM:-0400
TZOFFSETTO:-0500
RDATE:20211107T020000
END:STANDARD
BEGIN:DAYLIGHT
TZNAME:EDT
DTSTART:20210314T020000
TZOFFSETFROM:-0500
TZOFFSETTO:-0400
RDATE:20220313T020000
END:DAYLIGHT
END:VTIMEZONE
BEGIN:VEVENT
UID:d47f25e1-18fc-47c3-b12a-5b1b31447495
DTSTAMP:20260421T120448Z
DESCRIPTION:
DTSTART;TZID=America/New_York:20210318T170000
DTEND;TZID=America/New_York:20210318T180000
LOCATION:
SUMMARY:Homeowner Support Committee Meeting
END:VEVENT
END:VCALENDAR
