BEGIN:VCALENDAR
VERSION:2.0
PRODID:-//wchabitat.org//NONSGML kigkonsult.se iCalcreator 2.30.10//
CALSCALE:GREGORIAN
METHOD:PUBLISH
UID:de056012-2e56-428a-ac47-6f6725ad5682
X-WR-CALDESC:
X-WR-RELCALID:44538e63547f811714d43ab51f4bee24
X-WR-TIMEZONE:America/New_York
BEGIN:VTIMEZONE
TZID:America/New_York
BEGIN:STANDARD
TZNAME:EST
DTSTART:20201101T020000
TZOFFSETFROM:-0400
TZOFFSETTO:-0500
RDATE:20211107T020000
END:STANDARD
BEGIN:DAYLIGHT
TZNAME:EDT
DTSTART:20210314T020000
TZOFFSETFROM:-0500
TZOFFSETTO:-0400
RDATE:20220313T020000
END:DAYLIGHT
END:VTIMEZONE
BEGIN:VEVENT
UID:f0a2aa5f-df74-4582-876e-4f5e4453d2a8
DTSTAMP:20260421T115144Z
DESCRIPTION:
DTSTART;TZID=America/New_York:20210309T170000
DTEND;TZID=America/New_York:20210309T180000
LOCATION:
SUMMARY:Selection Committee Meeting
END:VEVENT
END:VCALENDAR
