BEGIN:VCALENDAR
VERSION:2.0
PRODID:-//wchabitat.org//NONSGML kigkonsult.se iCalcreator 2.30.10//
CALSCALE:GREGORIAN
METHOD:PUBLISH
UID:f106f778-25fe-46a3-9b80-87f4d9e9159b
X-WR-CALDESC:Habitat for Humanity of Wood County Ohio will be hosting a vir
 tual event\, Women Build Her Up\, on Facebook March 8th-12th to celebrate.
  The event will be focused on sharing positive achievements of women with 
 the hashtag #BuildHer. We would love for you to get involved by recording 
 a short video or sharing a photo that finishes the statement\, she chose t
 o challenge and so she…. and then posting your video/image to our facebook
  event. This achievement could be something that you have done\, or someth
 ing that you have helped other women to achieve.
X-WR-RELCALID:a6e3ba25751c8a90f02702e57c226f04
X-WR-TIMEZONE:America/New_York
BEGIN:VTIMEZONE
TZID:America/New_York
BEGIN:STANDARD
TZNAME:EST
DTSTART:20201101T020000
TZOFFSETFROM:-0400
TZOFFSETTO:-0500
RDATE:20211107T020000
END:STANDARD
BEGIN:DAYLIGHT
TZNAME:EDT
DTSTART:20200308T020000
TZOFFSETFROM:-0500
TZOFFSETTO:-0400
RDATE:20210314T020000
RDATE:20220313T020000
END:DAYLIGHT
END:VTIMEZONE
BEGIN:VEVENT
UID:8d265db7-547c-4a52-bd02-84acc099eeec
DTSTAMP:20260421T115137Z
DESCRIPTION:Habitat for Humanity of Wood County Ohio will be hosting a virt
 ual event\, Women Build Her Up\, on Facebook March 8th-12th to celebrate. 
 The event will be focused on sharing positive achievements of women with t
 he hashtag #BuildHer. We would love for you to get involved by recording a
  short video or sharing a photo that finishes the statement\, she chose to
  challenge and so she…. and then posting your video/image to our facebook 
 event. This achievement could be something that you have done\, or somethi
 ng that you have helped other women to achieve.
DTSTART;TZID=America/New_York:20210308T080000
DTEND;TZID=America/New_York:20210315T200000
LOCATION:
SUMMARY:Women Build Her Up
END:VEVENT
END:VCALENDAR
