BEGIN:VCALENDAR
VERSION:2.0
PRODID:-//wchabitat.org//NONSGML kigkonsult.se iCalcreator 2.30.10//
CALSCALE:GREGORIAN
METHOD:PUBLISH
UID:12195d74-b871-4e89-a181-a35192782d9b
X-WR-CALDESC:
X-WR-RELCALID:016884efba11667894a96f0c14171896
X-WR-TIMEZONE:America/New_York
BEGIN:VTIMEZONE
TZID:America/New_York
BEGIN:STANDARD
TZNAME:EST
DTSTART:20201101T020000
TZOFFSETFROM:-0400
TZOFFSETTO:-0500
RDATE:20211107T020000
END:STANDARD
BEGIN:DAYLIGHT
TZNAME:EDT
DTSTART:20200308T020000
TZOFFSETFROM:-0500
TZOFFSETTO:-0400
RDATE:20210314T020000
RDATE:20220313T020000
END:DAYLIGHT
END:VTIMEZONE
BEGIN:VEVENT
UID:e869287c-a6b9-4499-bdd4-b86dd0f2cfb2
DTSTAMP:20260421T114828Z
DESCRIPTION:
DTSTART;TZID=America/New_York:20210308T150000
DTEND;TZID=America/New_York:20210308T160000
LOCATION:Build Committee Meeting
SUMMARY:Build Committee Meeting
END:VEVENT
END:VCALENDAR
