BEGIN:VCALENDAR
VERSION:2.0
PRODID:-//wchabitat.org//NONSGML kigkonsult.se iCalcreator 2.30.10//
CALSCALE:GREGORIAN
METHOD:PUBLISH
UID:f6a296db-5ce4-479e-b014-7709ec34f7bc
X-WR-CALDESC:Contact volunteer@wchabitat.org for the link to join via Zoom
X-WR-RELCALID:bd3977ced41d9fd3c5035f8ed36918dc
X-WR-TIMEZONE:America/New_York
BEGIN:VTIMEZONE
TZID:America/New_York
BEGIN:STANDARD
TZNAME:EST
DTSTART:20201101T020000
TZOFFSETFROM:-0400
TZOFFSETTO:-0500
RDATE:20211107T020000
END:STANDARD
BEGIN:DAYLIGHT
TZNAME:EDT
DTSTART:20200308T020000
TZOFFSETFROM:-0500
TZOFFSETTO:-0400
RDATE:20210314T020000
RDATE:20220313T020000
END:DAYLIGHT
END:VTIMEZONE
BEGIN:VEVENT
UID:493717fe-f983-41d2-88b5-ca80d3a5713a
DTSTAMP:20260421T114657Z
DESCRIPTION:Contact volunteer@wchabitat.org for the link to join via Zoom
DTSTART;TZID=America/New_York:20210302T183000
DTEND;TZID=America/New_York:20210302T193000
LOCATION:
SUMMARY:New Volunteer Orientation
END:VEVENT
END:VCALENDAR
