BEGIN:VCALENDAR
VERSION:2.0
PRODID:-//wchabitat.org//NONSGML kigkonsult.se iCalcreator 2.30.10//
CALSCALE:GREGORIAN
METHOD:PUBLISH
UID:e00dd0d3-908e-4fdc-991d-b33746afb188
X-WR-CALDESC:
X-WR-RELCALID:8680715e35795451b5f05a38f9808bce
X-WR-TIMEZONE:America/New_York
BEGIN:VTIMEZONE
TZID:America/New_York
BEGIN:STANDARD
TZNAME:EST
DTSTART:20201101T020000
TZOFFSETFROM:-0400
TZOFFSETTO:-0500
RDATE:20211107T020000
END:STANDARD
BEGIN:DAYLIGHT
TZNAME:EDT
DTSTART:20200308T020000
TZOFFSETFROM:-0500
TZOFFSETTO:-0400
RDATE:20210314T020000
RDATE:20220313T020000
END:DAYLIGHT
END:VTIMEZONE
BEGIN:VEVENT
UID:1a0a8d1d-fc01-4d96-8644-c557c77f0c36
DTSTAMP:20260421T095839Z
DESCRIPTION:
DTSTART;TZID=America/New_York:20210223T173000
DTEND;TZID=America/New_York:20210223T183000
LOCATION:
SUMMARY:Board Meeting
END:VEVENT
END:VCALENDAR
