BEGIN:VCALENDAR
VERSION:2.0
PRODID:-//wchabitat.org//NONSGML kigkonsult.se iCalcreator 2.30.10//
CALSCALE:GREGORIAN
METHOD:PUBLISH
UID:1cc27910-9649-44ab-b27f-a4509a1ea329
X-WR-CALDESC:
X-WR-RELCALID:7462083fa6ac9972764b06b5b89a5600
X-WR-TIMEZONE:America/New_York
BEGIN:VTIMEZONE
TZID:America/New_York
BEGIN:STANDARD
TZNAME:EST
DTSTART:20201101T020000
TZOFFSETFROM:-0400
TZOFFSETTO:-0500
RDATE:20211107T020000
END:STANDARD
BEGIN:DAYLIGHT
TZNAME:EDT
DTSTART:20200308T020000
TZOFFSETFROM:-0500
TZOFFSETTO:-0400
RDATE:20210314T020000
RDATE:20220313T020000
END:DAYLIGHT
END:VTIMEZONE
BEGIN:VEVENT
UID:4675c639-4873-4996-ac3e-a682ef1b503c
DTSTAMP:20260421T094528Z
DESCRIPTION:
DTSTART;TZID=America/New_York:20210209T170000
DTEND;TZID=America/New_York:20210209T180000
LOCATION:
SUMMARY:Selection Committee Meeting
END:VEVENT
END:VCALENDAR
