BEGIN:VCALENDAR
VERSION:2.0
PRODID:-//wchabitat.org//NONSGML kigkonsult.se iCalcreator 2.30.10//
CALSCALE:GREGORIAN
METHOD:PUBLISH
UID:cd427a4d-1d2f-4c7f-acf7-f2306b5f62e2
X-WR-CALDESC:
X-WR-RELCALID:275f0ab81a0fa90ee2a58363636fce04
X-WR-TIMEZONE:America/New_York
BEGIN:VTIMEZONE
TZID:America/New_York
BEGIN:STANDARD
TZNAME:EST
DTSTART:20191103T020000
TZOFFSETFROM:-0400
TZOFFSETTO:-0500
RDATE:20201101T020000
RDATE:20211107T020000
END:STANDARD
BEGIN:DAYLIGHT
TZNAME:EDT
DTSTART:20200308T020000
TZOFFSETFROM:-0500
TZOFFSETTO:-0400
RDATE:20210314T020000
RDATE:20220313T020000
END:DAYLIGHT
END:VTIMEZONE
BEGIN:VEVENT
UID:392d1124-3c00-4940-a8fc-1d856580adb2
DTSTAMP:20260421T115044Z
DESCRIPTION:
DTSTART;TZID=America/New_York:20200926T080000
DTEND;TZID=America/New_York:20200926T140000
LOCATION:BG City Park
SUMMARY:Hockey for Habitat
END:VEVENT
END:VCALENDAR
