BEGIN:VCALENDAR
VERSION:2.0
PRODID:-//wchabitat.org//NONSGML kigkonsult.se iCalcreator 2.30.10//
CALSCALE:GREGORIAN
METHOD:PUBLISH
UID:13cc0770-e8c0-4c50-97c8-44ea42763c5e
X-WR-CALDESC:
X-WR-RELCALID:72755a2fb267c87d22f479ee6e2ef104
X-WR-TIMEZONE:America/New_York
BEGIN:VTIMEZONE
TZID:America/New_York
BEGIN:STANDARD
TZNAME:EST
DTSTART:20191103T020000
TZOFFSETFROM:-0400
TZOFFSETTO:-0500
RDATE:20201101T020000
RDATE:20211107T020000
END:STANDARD
BEGIN:DAYLIGHT
TZNAME:EDT
DTSTART:20200308T020000
TZOFFSETFROM:-0500
TZOFFSETTO:-0400
RDATE:20210314T020000
RDATE:20220313T020000
END:DAYLIGHT
END:VTIMEZONE
BEGIN:VEVENT
UID:35b83781-1af2-4137-b945-c72df8c324ca
DTSTAMP:20260421T114510Z
DESCRIPTION:
DTSTART;TZID=America/New_York:20200925T180000
DTEND;TZID=America/New_York:20200925T210000
LOCATION:BG Buffalo Wild Wings
SUMMARY:Hockey for Habitat Draft Night
END:VEVENT
END:VCALENDAR
