BEGIN:VCALENDAR
VERSION:2.0
PRODID:-//wchabitat.org//NONSGML kigkonsult.se iCalcreator 2.30.10//
CALSCALE:GREGORIAN
METHOD:PUBLISH
UID:4c7eb2ac-0dd0-4d8a-96db-b06d3aa1c1ca
X-WR-CALDESC:
X-WR-RELCALID:d2e52569c15d0c59c298a69d685070e7
X-WR-TIMEZONE:America/New_York
BEGIN:VTIMEZONE
TZID:America/New_York
BEGIN:STANDARD
TZNAME:EST
DTSTART:20191103T020000
TZOFFSETFROM:-0400
TZOFFSETTO:-0500
RDATE:20201101T020000
END:STANDARD
BEGIN:DAYLIGHT
TZNAME:EDT
DTSTART:20200308T020000
TZOFFSETFROM:-0500
TZOFFSETTO:-0400
RDATE:20210314T020000
END:DAYLIGHT
END:VTIMEZONE
BEGIN:VEVENT
UID:e0da31be-9561-4bfd-acfa-6d21f89e3c7f
DTSTAMP:20260421T000416Z
DESCRIPTION:
DTSTART;TZID=America/New_York:20200417T110000
DTEND;TZID=America/New_York:20200724T120000
LOCATION:
SUMMARY:Weston New Build
END:VEVENT
END:VCALENDAR
