BEGIN:VCALENDAR
VERSION:2.0
PRODID:-//wchabitat.org//NONSGML kigkonsult.se iCalcreator 2.30.10//
CALSCALE:GREGORIAN
METHOD:PUBLISH
UID:791292da-7979-4900-b8cd-0f6c52ca7303
X-WR-CALDESC:
X-WR-RELCALID:c5379006c488f83bcc26a8208451fbff
X-WR-TIMEZONE:America/New_York
BEGIN:VTIMEZONE
TZID:America/New_York
BEGIN:STANDARD
TZNAME:EST
DTSTART:20191103T020000
TZOFFSETFROM:-0400
TZOFFSETTO:-0500
RDATE:20201101T020000
END:STANDARD
BEGIN:DAYLIGHT
TZNAME:EDT
DTSTART:20200308T020000
TZOFFSETFROM:-0500
TZOFFSETTO:-0400
RDATE:20210314T020000
END:DAYLIGHT
END:VTIMEZONE
BEGIN:VEVENT
UID:90ff8aa8-cb6a-463d-8137-465dbc987b4a
DTSTAMP:20260421T050150Z
DESCRIPTION:
DTSTART;TZID=America/New_York:20200320T110000
DTEND;TZID=America/New_York:20200408T120000
LOCATION:
SUMMARY:Bloomdale Repair
END:VEVENT
END:VCALENDAR
