BEGIN:VCALENDAR
VERSION:2.0
PRODID:-//wchabitat.org//NONSGML kigkonsult.se iCalcreator 2.30.10//
CALSCALE:GREGORIAN
METHOD:PUBLISH
UID:fcab37aa-62df-4346-8e64-25c89c57dadc
X-WR-CALDESC:
X-WR-RELCALID:61a095bc63623fbd2ca0aa5f4e59199a
X-WR-TIMEZONE:America/New_York
BEGIN:VTIMEZONE
TZID:America/New_York
BEGIN:STANDARD
TZNAME:EST
DTSTART:20191103T020000
TZOFFSETFROM:-0400
TZOFFSETTO:-0500
RDATE:20201101T020000
END:STANDARD
BEGIN:DAYLIGHT
TZNAME:EDT
DTSTART:20190310T020000
TZOFFSETFROM:-0500
TZOFFSETTO:-0400
RDATE:20200308T020000
RDATE:20210314T020000
END:DAYLIGHT
END:VTIMEZONE
BEGIN:VEVENT
UID:e419b5b6-47e2-4057-a444-b96d3650db00
DTSTAMP:20260421T065355Z
DESCRIPTION:
DTSTART;TZID=America/New_York:20200305T110000
DTEND;TZID=America/New_York:20200312T120000
LOCATION:
SUMMARY:Northwood Rehab
END:VEVENT
END:VCALENDAR
