BEGIN:VCALENDAR
VERSION:2.0
PRODID:-//wchabitat.org//NONSGML kigkonsult.se iCalcreator 2.30.10//
CALSCALE:GREGORIAN
METHOD:PUBLISH
UID:172e737a-d439-4b29-910e-072788a70350
X-WR-CALDESC:
X-WR-RELCALID:1c2358ff3d011da5d9334872afab10d8
X-WR-TIMEZONE:America/New_York
BEGIN:VTIMEZONE
TZID:America/New_York
BEGIN:STANDARD
TZNAME:EST
DTSTART:20191103T020000
TZOFFSETFROM:-0400
TZOFFSETTO:-0500
RDATE:20201101T020000
END:STANDARD
BEGIN:DAYLIGHT
TZNAME:EDT
DTSTART:20190310T020000
TZOFFSETFROM:-0500
TZOFFSETTO:-0400
RDATE:20200308T020000
RDATE:20210314T020000
END:DAYLIGHT
END:VTIMEZONE
BEGIN:VEVENT
UID:1406cd33-7b73-4f46-8c56-7d799e1ff810
DTSTAMP:20260421T085417Z
DESCRIPTION:
DTSTART;TZID=America/New_York:20200225T173000
DTEND;TZID=America/New_York:20200225T190000
LOCATION:
SUMMARY:Board Meeting
END:VEVENT
END:VCALENDAR
