BEGIN:VCALENDAR
VERSION:2.0
PRODID:-//wchabitat.org//NONSGML kigkonsult.se iCalcreator 2.30.10//
CALSCALE:GREGORIAN
METHOD:PUBLISH
UID:d79de6a1-d330-404e-b927-14f50ee8d14f
X-WR-CALDESC:
X-WR-RELCALID:7d06ed47a165137b05de03b27e43cab8
X-WR-TIMEZONE:America/New_York
BEGIN:VTIMEZONE
TZID:America/New_York
BEGIN:STANDARD
TZNAME:EST
DTSTART:20191103T020000
TZOFFSETFROM:-0400
TZOFFSETTO:-0500
RDATE:20201101T020000
END:STANDARD
BEGIN:DAYLIGHT
TZNAME:EDT
DTSTART:20190310T020000
TZOFFSETFROM:-0500
TZOFFSETTO:-0400
RDATE:20200308T020000
RDATE:20210314T020000
END:DAYLIGHT
END:VTIMEZONE
BEGIN:VEVENT
UID:d6948190-cefc-4859-bb50-36445835005f
DTSTAMP:20260421T084244Z
DESCRIPTION:
DTSTART;TZID=America/New_York:20200218T170000
DTEND;TZID=America/New_York:20200218T180000
LOCATION:Trinity United Methodist Church
SUMMARY:Homeowner Support Committee
END:VEVENT
END:VCALENDAR
