BEGIN:VCALENDAR
VERSION:2.0
PRODID:-//wchabitat.org//NONSGML kigkonsult.se iCalcreator 2.30.10//
CALSCALE:GREGORIAN
METHOD:PUBLISH
UID:9a3bedeb-7488-48df-ab4e-84ac5a4c2b0d
X-WR-CALDESC:
X-WR-RELCALID:bf1d80e4f269746ed02294f6932dbbe3
X-WR-TIMEZONE:America/New_York
BEGIN:VTIMEZONE
TZID:America/New_York
BEGIN:STANDARD
TZNAME:EST
DTSTART:20191103T020000
TZOFFSETFROM:-0400
TZOFFSETTO:-0500
RDATE:20201101T020000
END:STANDARD
BEGIN:DAYLIGHT
TZNAME:EDT
DTSTART:20190310T020000
TZOFFSETFROM:-0500
TZOFFSETTO:-0400
RDATE:20200308T020000
RDATE:20210314T020000
END:DAYLIGHT
END:VTIMEZONE
BEGIN:VEVENT
UID:613aa84d-021a-42e7-88e7-944b952279f7
DTSTAMP:20260421T083610Z
DESCRIPTION:
DTSTART;TZID=America/New_York:20200218T183000
DTEND;TZID=America/New_York:20200218T193000
LOCATION:
SUMMARY:Homeowner Education Workshop
END:VEVENT
END:VCALENDAR
